BEGIN:VCALENDAR
VERSION:2.0
PRODID:-//Brahma Kumaris India Colony - ECPv4.9.3.2//NONSGML v1.0//EN
CALSCALE:GREGORIAN
METHOD:PUBLISH
X-WR-CALNAME:Brahma Kumaris India Colony
X-ORIGINAL-URL:https://indiacolony.bk.ooo
X-WR-CALDESC:Events for Brahma Kumaris India Colony
BEGIN:VEVENT
DTSTART;TZID=UTC+0:20180603T080000
DTEND;TZID=UTC+0:20180609T200000
DTSTAMP:20260421T172143
CREATED:20180625T141822Z
LAST-MODIFIED:20180625T142251Z
UID:109-1528012800-1528574400@indiacolony.bk.ooo
SUMMARY:Diabetes Camp by Dr. Shrimant Sahu
DESCRIPTION:Diabetes Bhagao – Program by BK Dr. Srimant Sahu \nDate : 30th June and 1st July\, 2018 \nTime : 6.00 AM to 9.00 AM and 4.00 PM to 6.00 PM \nVenue : Brahma Kumaris\, Gyan Maan Sarovar\, A-12\, Hariom Soci.\, India Colony\, Ahmedabad \n
URL:https://indiacolony.bk.ooo/event/diabetes-camp-by-dr-shrimant-sahu/
LOCATION:BrahmaKumaris\, Gyan Maan Sarovar\, India Colony\, Bapunagar\, Ahmedabad\, Gujarat\, 380024\, India
END:VEVENT
END:VCALENDAR